BEGIN:VCALENDAR
VERSION:2.0
PRODID:-//Learn To Care Prep, LLC - ECPv6.15.20//NONSGML v1.0//EN
CALSCALE:GREGORIAN
METHOD:PUBLISH
X-ORIGINAL-URL:https://learntocareprep.com
X-WR-CALDESC:Events for Learn To Care Prep, LLC
REFRESH-INTERVAL;VALUE=DURATION:PT1H
X-Robots-Tag:noindex
X-PUBLISHED-TTL:PT1H
BEGIN:VTIMEZONE
TZID:UTC
BEGIN:STANDARD
TZOFFSETFROM:+0000
TZOFFSETTO:+0000
TZNAME:UTC
DTSTART:20250101T000000
END:STANDARD
END:VTIMEZONE
BEGIN:VEVENT
DTSTART;TZID=UTC:20260424T100000
DTEND;TZID=UTC:20260426T160000
DTSTAMP:20260424T152825
CREATED:20251211T160418Z
LAST-MODIFIED:20251211T160418Z
UID:448-1777024800-1777219200@learntocareprep.com
SUMMARY:CNA Prep/BLS
DESCRIPTION:CNA prep 10a-4p \n CPR/bls 10-11am
URL:https://learntocareprep.com/event/cna-prep-bls/
LOCATION:Mount Dora\, FL\, Mount Dora\, FL\, 32757
END:VEVENT
END:VCALENDAR