BEGIN:VCALENDAR
VERSION:2.0
PRODID:-//Learn To Care Prep, LLC - ECPv6.15.20//NONSGML v1.0//EN
CALSCALE:GREGORIAN
METHOD:PUBLISH
X-WR-CALNAME:Learn To Care Prep, LLC
X-ORIGINAL-URL:https://learntocareprep.com
X-WR-CALDESC:Events for Learn To Care Prep, LLC
REFRESH-INTERVAL;VALUE=DURATION:PT1H
X-Robots-Tag:noindex
X-PUBLISHED-TTL:PT1H
BEGIN:VTIMEZONE
TZID:UTC
BEGIN:STANDARD
TZOFFSETFROM:+0000
TZOFFSETTO:+0000
TZNAME:UTC
DTSTART:20230101T000000
END:STANDARD
END:VTIMEZONE
BEGIN:VEVENT
DTSTART;TZID=UTC:20260329T100000
DTEND;TZID=UTC:20260329T140000
DTSTAMP:20260424T164112
CREATED:20251211T152044Z
LAST-MODIFIED:20251211T152044Z
UID:446-1774778400-1774792800@learntocareprep.com
SUMMARY:CNA Prep
DESCRIPTION:CPR/BLS 10am-11am \nCPR Instructor Course 11am-2pm
URL:https://learntocareprep.com/event/cna-prep-2/
LOCATION:FL
END:VEVENT
BEGIN:VEVENT
DTSTART;TZID=UTC:20260220T100000
DTEND;TZID=UTC:20260222T160000
DTSTAMP:20260424T164112
CREATED:20251211T151409Z
LAST-MODIFIED:20251211T151409Z
UID:444-1771581600-1771776000@learntocareprep.com
SUMMARY:CNA Prep
DESCRIPTION:Heart Healthy Month \nOn the 22nd of February\, CNA Prep 10am-11am
URL:https://learntocareprep.com/event/cna-prep/
LOCATION:FL
END:VEVENT
BEGIN:VEVENT
DTSTART;TZID=UTC:20251121T100000
DTEND;TZID=UTC:20251123T150000
DTSTAMP:20260424T164112
CREATED:20251104T150546Z
LAST-MODIFIED:20251104T150621Z
UID:430-1763719200-1763910000@learntocareprep.com
SUMMARY:Learn To Care Prep CNA Exam Readiness
DESCRIPTION:Prepare for your CNA exam confidently with our 3-day hands on clinical skills review and self-paced online access to comprehensive written materials.
URL:https://learntocareprep.com/event/learn-to-care-prep-cna-exam-readiness/
LOCATION:Mount Dora\, FL\, Mount Dora\, FL\, 32757
END:VEVENT
BEGIN:VEVENT
DTSTART;TZID=UTC:20240921T100000
DTEND;TZID=UTC:20240921T130000
DTSTAMP:20260424T164112
CREATED:20240704T143805Z
LAST-MODIFIED:20240704T144041Z
UID:302-1726912800-1726923600@learntocareprep.com
SUMMARY:Community Wellness Health Fair
DESCRIPTION:Stop by the community wellness health fair for learning\, games and prizes!
URL:https://learntocareprep.com/event/community-wellness-health-fair/
LOCATION:Mt. Sinai Missionary Baptist Church\, 5200 W South St.\, Orlando\, FL\, 32811\, United States
END:VEVENT
BEGIN:VEVENT
DTSTART;VALUE=DATE:20240719
DTEND;VALUE=DATE:20240722
DTSTAMP:20260424T164112
CREATED:20240704T143246Z
LAST-MODIFIED:20240704T143246Z
UID:299-1721347200-1721606399@learntocareprep.com
SUMMARY:Full CNA Exam Prep (registration required)
DESCRIPTION:Full CNA Exam Prep $500\n\nThree days of practical\, in-person skill training covering 22 skills.\nAccess to online instructional videos demonstrating skills.\nInteractive online lectures featuring audio narration of written content and assessment questions.\nGuidance for the registration process of level 2 background screening and exam registration**.\nParticipation in a mock review (with submission of the Authorization to Test within two weeks of training completion).\nAvailability of instructor support via chat during designated business hours.
URL:https://learntocareprep.com/event/full-cna-exam-prep-registration-required/
LOCATION:FL
ORGANIZER;CN="Learn to Care Prep%2C LLC":MAILTO:learntocarecna@gmail.com
END:VEVENT
BEGIN:VEVENT
DTSTART;TZID=UTC:20240427T133000
DTEND;TZID=UTC:20240427T153000
DTSTAMP:20260424T164112
CREATED:20240410T234113Z
LAST-MODIFIED:20240410T234638Z
UID:247-1714224600-1714231800@learntocareprep.com
SUMMARY:Learn CPR with Learn to Care Prep
DESCRIPTION:CPR is an essential skill that has the potential to save a loved one’s life. Training covers CPR techniques\, AED usage\, and various first aid procedures. Training available for all ages. Instructors are certified through America Heart Association. \nStudent and Group Rate: $50
URL:https://learntocareprep.com/event/learn-cpr-with-learn-to-care-prep/
LOCATION:Orlando Fairgrounds\, 800 US HWY 27\, Orando\, Florida\, 34715
END:VEVENT
BEGIN:VEVENT
DTSTART;VALUE=DATE:20240321
DTEND;VALUE=DATE:20240324
DTSTAMP:20260424T164112
CREATED:20240113T160548Z
LAST-MODIFIED:20240113T160852Z
UID:83-1710979200-1711238399@learntocareprep.com
SUMMARY:CNA Training
DESCRIPTION:Mock review will be held on April 6th.
URL:https://learntocareprep.com/event/cna-training-3/
LOCATION:FL
ORGANIZER;CN="Learn to Care Prep%2C LLC":MAILTO:learntocarecna@gmail.com
END:VEVENT
BEGIN:VEVENT
DTSTART;VALUE=DATE:20240216
DTEND;VALUE=DATE:20240219
DTSTAMP:20260424T164112
CREATED:20240113T160412Z
LAST-MODIFIED:20240113T160824Z
UID:81-1708041600-1708300799@learntocareprep.com
SUMMARY:CNA Training
DESCRIPTION:Mock review will be held on March 3rd.
URL:https://learntocareprep.com/event/cna-training-2/
LOCATION:FL
ORGANIZER;CN="Learn to Care Prep%2C LLC":MAILTO:learntocarecna@gmail.com
END:VEVENT
BEGIN:VEVENT
DTSTART;VALUE=DATE:20240117
DTEND;VALUE=DATE:20240120
DTSTAMP:20260424T164112
CREATED:20240113T160234Z
LAST-MODIFIED:20240113T160750Z
UID:77-1705449600-1705708799@learntocareprep.com
SUMMARY:CNA Training
DESCRIPTION:Mock review will be held on February 3rd.
URL:https://learntocareprep.com/event/cna-training/
LOCATION:FL
ORGANIZER;CN="Learn to Care Prep%2C LLC":MAILTO:learntocarecna@gmail.com
END:VEVENT
END:VCALENDAR